BEGIN:VCALENDAR
VERSION:2.0
PRODID:-//PEP Services - ECPv6.15.13.1//NONSGML v1.0//EN
CALSCALE:GREGORIAN
METHOD:PUBLISH
X-ORIGINAL-URL:https://pepservices.org
X-WR-CALDESC:Events for PEP Services
REFRESH-INTERVAL;VALUE=DURATION:PT1H
X-Robots-Tag:noindex
X-PUBLISHED-TTL:PT1H
BEGIN:VTIMEZONE
TZID:America/New_York
BEGIN:DAYLIGHT
TZOFFSETFROM:-0500
TZOFFSETTO:-0400
TZNAME:EDT
DTSTART:20140309T070000
END:DAYLIGHT
BEGIN:STANDARD
TZOFFSETFROM:-0400
TZOFFSETTO:-0500
TZNAME:EST
DTSTART:20141102T060000
END:STANDARD
BEGIN:DAYLIGHT
TZOFFSETFROM:-0500
TZOFFSETTO:-0400
TZNAME:EDT
DTSTART:20150308T070000
END:DAYLIGHT
BEGIN:STANDARD
TZOFFSETFROM:-0400
TZOFFSETTO:-0500
TZNAME:EST
DTSTART:20151101T060000
END:STANDARD
BEGIN:DAYLIGHT
TZOFFSETFROM:-0500
TZOFFSETTO:-0400
TZNAME:EDT
DTSTART:20160313T070000
END:DAYLIGHT
BEGIN:STANDARD
TZOFFSETFROM:-0400
TZOFFSETTO:-0500
TZNAME:EST
DTSTART:20161106T060000
END:STANDARD
END:VTIMEZONE
BEGIN:VEVENT
DTSTART;TZID=America/New_York:20150126T160000
DTEND;TZID=America/New_York:20150126T180000
DTSTAMP:20260423T210226
CREATED:20150118T223354Z
LAST-MODIFIED:20150118T223354Z
UID:339-1422288000-1422295200@pepservices.org
SUMMARY:Art for Socialization Class
DESCRIPTION:
URL:https://pepservices.org/event/art-for-socialization-class/
LOCATION:PEP\, 1200 South Broad Street\, Philadelphia\, PA\, 19146
CATEGORIES:Events
END:VEVENT
BEGIN:VEVENT
DTSTART;TZID=America/New_York:20150126T063000
DTEND;TZID=America/New_York:20150126T200000
DTSTAMP:20260423T210226
CREATED:20150118T051149Z
LAST-MODIFIED:20150118T222306Z
UID:328-1422253800-1422302400@pepservices.org
SUMMARY:Board Meeting
DESCRIPTION:
URL:https://pepservices.org/event/annual-king-of-the-hill-calendar/
LOCATION:PEP\, 1200 South Broad Street\, Philadelphia\, PA\, 19146
CATEGORIES:Events
END:VEVENT
BEGIN:VEVENT
DTSTART;TZID=America/New_York:20150117T180000
DTEND;TZID=America/New_York:20150117T190000
DTSTAMP:20260423T210226
CREATED:20150117T231359Z
LAST-MODIFIED:20150118T012141Z
UID:165-1421517600-1421521200@pepservices.org
SUMMARY:Philly Give Camp
DESCRIPTION:
URL:https://pepservices.org/event/our-test-event/
LOCATION:Microsoft\, 123 Street\, Malvern\, PA\, 12345
CATEGORIES:Events
END:VEVENT
END:VCALENDAR